BEGIN:VCALENDAR
VERSION:2.0
PRODID:-//Körösmenti Vállalkozás Erősítés - ECPv6.15.15//NONSGML v1.0//EN
CALSCALE:GREGORIAN
METHOD:PUBLISH
X-WR-CALNAME:Körösmenti Vállalkozás Erősítés
X-ORIGINAL-URL:https://korosmentivallalkozaserosites.hu
X-WR-CALDESC:Események Körösmenti Vállalkozás Erősítés
REFRESH-INTERVAL;VALUE=DURATION:PT1H
X-Robots-Tag:noindex
X-PUBLISHED-TTL:PT1H
BEGIN:VTIMEZONE
TZID:UTC
BEGIN:STANDARD
TZOFFSETFROM:+0000
TZOFFSETTO:+0000
TZNAME:UTC
DTSTART:20250101T000000
END:STANDARD
END:VTIMEZONE
BEGIN:VEVENT
DTSTART;TZID=UTC:20260310T160000
DTEND;TZID=UTC:20260310T180000
DTSTAMP:20260420T123650
CREATED:20260223T171949Z
LAST-MODIFIED:20260309T104319Z
UID:149-1773158400-1773165600@korosmentivallalkozaserosites.hu
SUMMARY:Győrfi Pál
DESCRIPTION:Győrfi Pál előadása Békésen
URL:https://korosmentivallalkozaserosites.hu/rendezveny/gyorfi-pal/
LOCATION:Békés Városi Művelődési Központ | Békés\, Jantyik Mátyás utca 21-25.\, Békés\, Békés\, 5630\, Hungary
END:VEVENT
BEGIN:VEVENT
DTSTART;TZID=UTC:20260310T160000
DTEND;TZID=UTC:20260310T180000
DTSTAMP:20260420T123650
CREATED:20260223T172033Z
LAST-MODIFIED:20260309T104341Z
UID:151-1773158400-1773165600@korosmentivallalkozaserosites.hu
SUMMARY:Nebehaj Vanda
DESCRIPTION:Nebehaj Vanda előadása Békésen
URL:https://korosmentivallalkozaserosites.hu/rendezveny/nebehaj-vanda/
LOCATION:Békés Városi Művelődési Központ | Békés\, Jantyik Mátyás utca 21-25.\, Békés\, Békés\, 5630\, Hungary
END:VEVENT
END:VCALENDAR